BEGIN:VCALENDAR
VERSION:2.0
PRODID:-//ChamberMaster//Event Calendar 2.0//EN
METHOD:PUBLISH
X-PUBLISHED-TTL:P3D
REFRESH-INTERVAL:P3D
CALSCALE:GREGORIAN
BEGIN:VEVENT
DTSTART:20260820T130000Z
DTEND:20260820T153000Z
X-MICROSOFT-CDO-ALLDAYEVENT:FALSE
SUMMARY:Volunteer Event - Mentor Schools Food Market Distribution
DESCRIPTION:Looking for a great way to help the community? \n\n\n\nThe food market is free and open to all community members in need. Mentor Schools will be distributing over 12\,000 lbs. of fresh produce (thanks to the Greater Cleveland Food Bank) to community members in need.\n\n\n\nDuties include unloading the pallets\, staging food and bagging loose items (green beans\, potatoes\, onions\, etc.) and helping with food distribution to community.\n\n\n\nPlease Note: If you sign up\, we are counting on you to be there. If you register and find you can no longer attend\, please give us 48 hours notice. Thank you.
X-ALT-DESC;FMTTYPE=text/html:Looking for a great way to help the community?&nbsp\;<br />\n<br />\nThe food market is free and open to all community members in need. Mentor Schools will be distributing over 12\,000 lbs. of fresh produce (thanks to the Greater Cleveland Food Bank) to community members in need.<br />\n<br />\nDuties include unloading the pallets\, staging food and bagging loose items (green beans\, potatoes\, onions\, etc.) and helping with food distribution to community.<br />\n<br />\n<span style="padding: 0px\; margin: 0px\; box-sizing: content-box\; font-weight: bolder\; inset: auto\; clear: none\; color: rgb(51\, 51\, 51)\; content: normal\; direction: inherit\; empty-cells: show\; font-variant-numeric: inherit\; font-variant-east-asian: inherit\; font-variant-alternates: inherit\; font-variant-position: inherit\; font-variant-emoji: inherit\; font-stretch: inherit\; font-size: 13px\; font-family: sans-serif\, Arial\, Verdana\, &quot\;Trebuchet MS&quot\;\; font-optical-sizing: inherit\; font-size-adjust: inherit\; font-kerning: inherit\; font-feature-settings: inherit\; font-variation-settings: inherit\; line-height: inherit\; max-height: none\; max-width: none\; min-height: initial\; min-width: initial\; opacity: 1\; outline-offset: 0px\; overflow: visible\; position: static\; resize: none\; table-layout: auto\; text-overflow: clip\; vertical-align: baseline\; visibility: inherit\; word-break: inherit\; overflow-wrap: inherit\; z-index: auto\; background-image: none\; background-position: initial\; background-size: initial\; background-repeat: initial\; background-attachment: initial\; background-origin: initial\; background-clip: initial\; border-width: initial\; border-style: none\; border-color: initial\; border-collapse: separate\; border-image: none 100% 1 0 / 1 / 0 stretch\; border-radius: 0px\; height: auto\; width: auto\; box-shadow: none\;">Please Note: If you sign up\, we are counting on you to be there. If you register and find you can no longer attend\, please give us 48 hours notice. Thank you.</span>
LOCATION:Mentor High School Campus Near the Football Stadium 6477 Center St.
UID:e.523.7357
SEQUENCE:3
DTSTAMP:20260423T222619Z
URL:https://business.mentorchamber.org/events/details/volunteer-event-mentor-schools-food-market-distribution-7357
END:VEVENT

END:VCALENDAR
