BEGIN:VCALENDAR
VERSION:2.0
PRODID:-//ChamberMaster//Event Calendar 2.0//EN
METHOD:PUBLISH
X-PUBLISHED-TTL:P3D
REFRESH-INTERVAL:P3D
CALSCALE:GREGORIAN
BEGIN:VEVENT
DTSTART:20260613T220000Z
DTEND:20260614T030000Z
X-MICROSOFT-CDO-ALLDAYEVENT:FALSE
SUMMARY:Reverse Raffle June 13\, 2026
DESCRIPTION:?? A Night Out You Don't Want to Miss   Reverse Raffle & Silent Auction ??\n\nGet ready for an unforgettable night of fun\, excitement\, and big wins! Join Love Foundation for a high-energy evening featuring a Reverse Raffle\, Silent Auction\, live band\, guest speakers\, and an open bar   all in one incredible night out.\n\nEnjoy a full evening of great food\, drinks\, and live music while the excitement builds during the Reverse Raffle\, leading up to the final winning ticket. Browse and bid on amazing silent auction items\, connect with others in the community\, and experience a lively atmosphere filled with energy from start to finish.\n\nWhether you're planning a night out with friends\, a date night\, or an opportunity to network with local professionals\, this event delivers the perfect mix of entertainment and purpose.\n\nAll proceeds support Project Break the Cycle\, helping local families across Lake\, Geauga\, and surrounding communities with critical resources as they rebuild from crisis\, trauma\, and hardship.\n\nEvent Details:\n\n?? Saturday\, June 13\, 2026\n\n? 6:00 PM   11:00 PM\n\n?? LaVera Party Center\, Willoughby Hills\n\n??? Tickets: https://projectbreakthecycle.eventbrite.com\n\nPlease note: Admission to the event does not include entry into the $10\,000 Grand Prize Raffle\, which is sold separately.
X-ALT-DESC;FMTTYPE=text/html:<p><strong>?? A Night Out You Don&rsquo\;t Want to Miss &ndash\; Reverse Raffle &amp\; Silent Auction ??</strong></p>\n\n<p>Get ready for an unforgettable night of fun\, excitement\, and big wins! Join Love Foundation for a high-energy evening featuring a Reverse Raffle\, Silent Auction\, live band\, guest speakers\, and an open bar &mdash\; all in one incredible night out.</p>\n\n<p>Enjoy a full evening of great food\, drinks\, and live music while the excitement builds during the Reverse Raffle\, leading up to the final winning ticket. Browse and bid on amazing silent auction items\, connect with others in the community\, and experience a lively atmosphere filled with energy from start to finish.</p>\n\n<p>Whether you&rsquo\;re planning a night out with friends\, a date night\, or an opportunity to network with local professionals\, this event delivers the perfect mix of entertainment and purpose.</p>\n\n<p>All proceeds support <em>Project Break the Cycle</em>\, helping local families across Lake\, Geauga\, and surrounding communities with critical resources as they rebuild from crisis\, trauma\, and hardship.</p>\n\n<p><strong>Event Details:</strong><br />\n?? Saturday\, June 13\, 2026<br />\n? 6:00 PM &ndash\; 11:00 PM<br />\n?? LaVera Party Center\, Willoughby Hills</p>\n\n<p>??? Tickets: https://projectbreakthecycle.eventbrite.com</p>\n\n<p><em>Please note: Admission to the event does not include entry into the $10\,000 Grand Prize Raffle\, which is sold separately.</em></p>\n
LOCATION:LaVera Party Center 32200 Chardon Road Willoughby Hills\, OH 44094
UID:e.523.7368
SEQUENCE:3
DTSTAMP:20260424T185621Z
URL:https://business.mentorchamber.org/events/details/reverse-raffle-june-13-2026-7368
END:VEVENT

END:VCALENDAR
