BEGIN:VCALENDAR
VERSION:2.0
PRODID:-//ChamberMaster//Event Calendar 2.0//EN
METHOD:PUBLISH
X-PUBLISHED-TTL:P3D
REFRESH-INTERVAL:P3D
CALSCALE:GREGORIAN
BEGIN:VEVENT
DTSTART:20260422T160000Z
DTEND:20260422T210000Z
X-MICROSOFT-CDO-ALLDAYEVENT:FALSE
SUMMARY:Mentor Lumber Cabinet Open House
DESCRIPTION:Cabinet Open House\n\n\n\nLight Appetizers\n\nDemos/Design Experts on site\n\nPrizes
X-ALT-DESC;FMTTYPE=text/html:Cabinet Open House<br />\n<br />\nLight Appetizers<br />\nDemos/Design Experts on site<br />\nPrizes
LOCATION:Mentor Lumber & Supply Co. 7180 Center Street Mentor\, OH 44060
UID:e.523.7355
SEQUENCE:3
DTSTAMP:20260420T234118Z
URL:https://business.mentorchamber.org/events/details/mentor-lumber-cabinet-open-house-7355
END:VEVENT

END:VCALENDAR
